BEGIN:VCALENDAR
VERSION:2.0
PRODID:-//Opplæringskontoret for offentleg sektor i Sogn og Fjordane - ECPv6.15.17.1//NONSGML v1.0//EN
CALSCALE:GREGORIAN
METHOD:PUBLISH
X-WR-CALNAME:Opplæringskontoret for offentleg sektor i Sogn og Fjordane
X-ORIGINAL-URL:https://okosweb.metalab03.tydeleg.dev
X-WR-CALDESC:Hendingar for Opplæringskontoret for offentleg sektor i Sogn og Fjordane
REFRESH-INTERVAL;VALUE=DURATION:PT1H
X-Robots-Tag:noindex
X-PUBLISHED-TTL:PT1H
BEGIN:VTIMEZONE
TZID:UTC
BEGIN:STANDARD
TZOFFSETFROM:+0000
TZOFFSETTO:+0000
TZNAME:UTC
DTSTART:20250101T000000
END:STANDARD
END:VTIMEZONE
BEGIN:VEVENT
DTSTART;TZID=UTC:20260127T163000
DTEND;TZID=UTC:20261110T203000
DTSTAMP:20260423T165116
CREATED:20220929T090515Z
LAST-MODIFIED:20251219T074903Z
UID:3846-1769531400-1794342600@okosweb.metalab03.tydeleg.dev
SUMMARY:Eksamensforbredande kurs i reinhaldsoperatørfaget (digitalt)
DESCRIPTION:Målgruppe: Tilsette under utdanning i OKOS sine medlemsbedrifter som ønsker fagbrev \nFormål: Bestå obligatorisk tverrfagleg eksamen hausten 2026 \nInnhald: Kurset vil dekke følgande tema: \n\nUtstyr\, kjemikaliar\, maskiner\nOverflater\, overflate behandling\nHygiene\, kvalitet\, lover\, reglar\nPlanlegging\, kalkulering\nSkadesanering\, fjerning av graffiti\nBransjen\, lære\nTekstilbehandling\nReinhald av forskjellige områder\nHMS\, Ergonomi\n\nDato/tid/stad: Kurset er på om lag 150 timar på kveldstid med 4 timer pr. gang. Undervisninga vil vere på teams\, med unntak av 3 fysiske samlingar. \nFørste digitale samling er 27.januar kl.16.30-20.30. Klikk her for å sjå dato for resten av kurset. \nInstruktør: Veronika Hoffmeister\, BB Servicesystem \nTal delt.: 10-15 deltakarar \nKursavgift: 14000\,- pr deltakar. Dette vil bli dekka av arbeidsgjevar gjennom lærlingtilskotet og er derfor gratis for deltakarane. \nPåmelding: Påmeldingsfrist 11/1-26. Klikk her for påmelding \nMerknadar: \n\nDet er krav til norskkunnskap tilsvarande norskprøven B1.\nDu må ha eigen bærbar pc med kamera under heile kurset og til eksamen\nTEAMS-opptak frå kurset vil etter avtale bli delt med deltakarane\nLærebok: «Alt om renhold\, håndbok 4».\nPåmeldinga må godkjennast av arbeidsgivar på grunn av ønske om norskkunnskap
URL:https://okosweb.metalab03.tydeleg.dev/alle-kurs/introsamling-for-nye-laerlingar-i-helsearbeidarfaget-2/
CATEGORIES:Kurs,Samling
END:VEVENT
END:VCALENDAR